BEGIN:VCALENDAR
VERSION:2.0
PRODID:-//시애틀KR - ECPv6.15.18//NONSGML v1.0//EN
CALSCALE:GREGORIAN
METHOD:PUBLISH
X-WR-CALNAME:시애틀KR
X-ORIGINAL-URL:https://seattlekr.com
X-WR-CALDESC:시애틀KR 이벤트
REFRESH-INTERVAL;VALUE=DURATION:PT1H
X-Robots-Tag:noindex
X-PUBLISHED-TTL:PT1H
BEGIN:VTIMEZONE
TZID:America/Los_Angeles
BEGIN:DAYLIGHT
TZOFFSETFROM:-0800
TZOFFSETTO:-0700
TZNAME:PDT
DTSTART:20250309T100000
END:DAYLIGHT
BEGIN:STANDARD
TZOFFSETFROM:-0700
TZOFFSETTO:-0800
TZNAME:PST
DTSTART:20251102T090000
END:STANDARD
BEGIN:DAYLIGHT
TZOFFSETFROM:-0800
TZOFFSETTO:-0700
TZNAME:PDT
DTSTART:20260308T100000
END:DAYLIGHT
BEGIN:STANDARD
TZOFFSETFROM:-0700
TZOFFSETTO:-0800
TZNAME:PST
DTSTART:20261101T090000
END:STANDARD
BEGIN:DAYLIGHT
TZOFFSETFROM:-0800
TZOFFSETTO:-0700
TZNAME:PDT
DTSTART:20270314T100000
END:DAYLIGHT
BEGIN:STANDARD
TZOFFSETFROM:-0700
TZOFFSETTO:-0800
TZNAME:PST
DTSTART:20271107T090000
END:STANDARD
END:VTIMEZONE
BEGIN:VEVENT
DTSTART;VALUE=DATE:20260426
DTEND;VALUE=DATE:20260429
DTSTAMP:20260420T044404
CREATED:20260410T101428Z
LAST-MODIFIED:20260410T101428Z
UID:223170-1777161600-1777420799@seattlekr.com
SUMMARY:도시 야생동물 탐험: 생생 도시 자연 이야기 World explorer show
DESCRIPTION:시애틀 벤아라요 홀에서 내셔널 지오그래픽 라이브가 과학자와 전문가들을 초청하여 도시 속 숨겨진 야생동물 세계를 사진과 영상으로 소개합니다. 놀라운 도시 자연 이야기를 경험하세요. \n📍 Google Map \n🔗 홈페이지 보기
URL:https://seattlekr.com/seattle-event/%eb%8f%84%ec%8b%9c-%ec%95%bc%ec%83%9d%eb%8f%99%eb%ac%bc-%ed%83%90%ed%97%98-%ec%83%9d%ec%83%9d-%eb%8f%84%ec%8b%9c-%ec%9e%90%ec%97%b0-%ec%9d%b4%ec%95%bc%ea%b8%b0-world-explorer-show/
LOCATION:Benaroya Hall\, 200 University St\, Seattle\, WA 98101\, United States
END:VEVENT
END:VCALENDAR