BEGIN:VCALENDAR
VERSION:2.0
PRODID:-//시애틀KR - ECPv6.15.18//NONSGML v1.0//EN
CALSCALE:GREGORIAN
METHOD:PUBLISH
X-WR-CALNAME:시애틀KR
X-ORIGINAL-URL:https://seattlekr.com
X-WR-CALDESC:시애틀KR 이벤트
REFRESH-INTERVAL;VALUE=DURATION:PT1H
X-Robots-Tag:noindex
X-PUBLISHED-TTL:PT1H
BEGIN:VTIMEZONE
TZID:America/Los_Angeles
BEGIN:DAYLIGHT
TZOFFSETFROM:-0800
TZOFFSETTO:-0700
TZNAME:PDT
DTSTART:20250309T100000
END:DAYLIGHT
BEGIN:STANDARD
TZOFFSETFROM:-0700
TZOFFSETTO:-0800
TZNAME:PST
DTSTART:20251102T090000
END:STANDARD
BEGIN:DAYLIGHT
TZOFFSETFROM:-0800
TZOFFSETTO:-0700
TZNAME:PDT
DTSTART:20260308T100000
END:DAYLIGHT
BEGIN:STANDARD
TZOFFSETFROM:-0700
TZOFFSETTO:-0800
TZNAME:PST
DTSTART:20261101T090000
END:STANDARD
BEGIN:DAYLIGHT
TZOFFSETFROM:-0800
TZOFFSETTO:-0700
TZNAME:PDT
DTSTART:20270314T100000
END:DAYLIGHT
BEGIN:STANDARD
TZOFFSETFROM:-0700
TZOFFSETTO:-0800
TZNAME:PST
DTSTART:20271107T090000
END:STANDARD
END:VTIMEZONE
BEGIN:VEVENT
DTSTART;VALUE=DATE:20260423
DTEND;VALUE=DATE:20260427
DTSTAMP:20260420T044306
CREATED:20260409T172509Z
LAST-MODIFIED:20260409T172509Z
UID:223059-1776902400-1777247999@seattlekr.com
SUMMARY:무료 건강 클리닉 안내 Healthcare
DESCRIPTION:🎫 무료 \n시애틀 센터 근처 피셔 파킹에서 무료로 치과\, 시력\, 일반 의료 서비스 이용 가능. 첫 티켓 배포: 305 해리슨 스트리트\, 오전 5시 30분. 인근 무료 주차장 이용 가능 (3마일 북쪽 3번 애비뉴 근처). 시애틀/킹 카운티 거주자 누구나 신분증 없이 참여. \n📍 Google Map \n🔗 홈페이지 보기
URL:https://seattlekr.com/seattle-event/%eb%ac%b4%eb%a3%8c-%ea%b1%b4%ea%b0%95-%ed%81%b4%eb%a6%ac%eb%8b%89-%ec%95%88%eb%82%b4-healthcare/
LOCATION:Fisher Pavilion\, 305 Harrison St\, Seattle\, WA 98109\, United States
END:VEVENT
END:VCALENDAR