BEGIN:VCALENDAR
VERSION:2.0
PRODID:-//시애틀KR - ECPv6.15.18//NONSGML v1.0//EN
CALSCALE:GREGORIAN
METHOD:PUBLISH
X-WR-CALNAME:시애틀KR
X-ORIGINAL-URL:https://seattlekr.com
X-WR-CALDESC:시애틀KR 이벤트
REFRESH-INTERVAL;VALUE=DURATION:PT1H
X-Robots-Tag:noindex
X-PUBLISHED-TTL:PT1H
BEGIN:VTIMEZONE
TZID:America/Los_Angeles
BEGIN:DAYLIGHT
TZOFFSETFROM:-0800
TZOFFSETTO:-0700
TZNAME:PDT
DTSTART:20250309T100000
END:DAYLIGHT
BEGIN:STANDARD
TZOFFSETFROM:-0700
TZOFFSETTO:-0800
TZNAME:PST
DTSTART:20251102T090000
END:STANDARD
BEGIN:DAYLIGHT
TZOFFSETFROM:-0800
TZOFFSETTO:-0700
TZNAME:PDT
DTSTART:20260308T100000
END:DAYLIGHT
BEGIN:STANDARD
TZOFFSETFROM:-0700
TZOFFSETTO:-0800
TZNAME:PST
DTSTART:20261101T090000
END:STANDARD
BEGIN:DAYLIGHT
TZOFFSETFROM:-0800
TZOFFSETTO:-0700
TZNAME:PDT
DTSTART:20270314T100000
END:DAYLIGHT
BEGIN:STANDARD
TZOFFSETFROM:-0700
TZOFFSETTO:-0800
TZNAME:PST
DTSTART:20271107T090000
END:STANDARD
END:VTIMEZONE
BEGIN:VEVENT
DTSTART;VALUE=DATE:20260502
DTEND;VALUE=DATE:20260503
DTSTAMP:20260420T044748
CREATED:20260411T003346Z
LAST-MODIFIED:20260411T003346Z
UID:223244-1777680000-1777766399@seattlekr.com
SUMMARY:밀 크릭 맥주 & 와인 페스티벌 Tasting in Mill Creek
DESCRIPTION:밀 크릭 타운 센터 (메인 스트리트 15115)에서 만 21세 이상을 위한 맥주와 와인 테이스팅 행사가 열립니다. 티켓 가격은 40\,000원이며\, 8장 구매 시 다양한 음료를 즐길 수 있습니다. 매년 5월과 9월에 풍성한 경험을 제공합니다. \n🎫 Tickets \n📍 Google Map \n🔗 홈페이지 보기
URL:https://seattlekr.com/seattle-event/%eb%b0%80-%ed%81%ac%eb%a6%ad-%eb%a7%a5%ec%a3%bc-%ec%99%80%ec%9d%b8-%ed%8e%98%ec%8a%a4%ed%8b%b0%eb%b2%8c-tasting-in-mill-creek/
LOCATION:Mill Creek Town Center\, 15310 Main St\, Mill Creek\, WA 98012\, United States
END:VEVENT
END:VCALENDAR