BEGIN:VCALENDAR
VERSION:2.0
PRODID:-//시애틀KR - ECPv6.15.18//NONSGML v1.0//EN
CALSCALE:GREGORIAN
METHOD:PUBLISH
X-WR-CALNAME:시애틀KR
X-ORIGINAL-URL:https://seattlekr.com
X-WR-CALDESC:시애틀KR 이벤트
REFRESH-INTERVAL;VALUE=DURATION:PT1H
X-Robots-Tag:noindex
X-PUBLISHED-TTL:PT1H
BEGIN:VTIMEZONE
TZID:America/Los_Angeles
BEGIN:DAYLIGHT
TZOFFSETFROM:-0800
TZOFFSETTO:-0700
TZNAME:PDT
DTSTART:20250309T100000
END:DAYLIGHT
BEGIN:STANDARD
TZOFFSETFROM:-0700
TZOFFSETTO:-0800
TZNAME:PST
DTSTART:20251102T090000
END:STANDARD
BEGIN:DAYLIGHT
TZOFFSETFROM:-0800
TZOFFSETTO:-0700
TZNAME:PDT
DTSTART:20260308T100000
END:DAYLIGHT
BEGIN:STANDARD
TZOFFSETFROM:-0700
TZOFFSETTO:-0800
TZNAME:PST
DTSTART:20261101T090000
END:STANDARD
BEGIN:DAYLIGHT
TZOFFSETFROM:-0800
TZOFFSETTO:-0700
TZNAME:PDT
DTSTART:20270314T100000
END:DAYLIGHT
BEGIN:STANDARD
TZOFFSETFROM:-0700
TZOFFSETTO:-0800
TZNAME:PST
DTSTART:20271107T090000
END:STANDARD
END:VTIMEZONE
BEGIN:VEVENT
DTSTART;VALUE=DATE:20260502
DTEND;VALUE=DATE:20260511
DTSTAMP:20260420T044245
CREATED:20260411T003352Z
LAST-MODIFIED:20260411T003352Z
UID:223248-1777680000-1778457599@seattlekr.com
SUMMARY:바손 섬 예술가 스튜디오 탐방 Tour art studios on Vashon
DESCRIPTION:🎫 무료 \n주말 동안 페리로 이동하여 바손 섬의 43개 예술가 스튜디오와 갤러리를 둘러보고\, 140여 명의 예술가들과 만나보세요. 독특한 예술 세계를 경험하세요. \n🔗 홈페이지 보기
URL:https://seattlekr.com/seattle-event/%eb%b0%94%ec%86%90-%ec%84%ac-%ec%98%88%ec%88%a0%ea%b0%80-%ec%8a%a4%ed%8a%9c%eb%94%94%ec%98%a4-%ed%83%90%eb%b0%a9-tour-art-studios-on-vashon/
LOCATION:Vashon Island (19 miles SW via ferry)
END:VEVENT
END:VCALENDAR