BEGIN:VCALENDAR
VERSION:2.0
PRODID:-//시애틀KR - ECPv6.15.18//NONSGML v1.0//EN
CALSCALE:GREGORIAN
METHOD:PUBLISH
X-WR-CALNAME:시애틀KR
X-ORIGINAL-URL:https://seattlekr.com
X-WR-CALDESC:시애틀KR 이벤트
REFRESH-INTERVAL;VALUE=DURATION:PT1H
X-Robots-Tag:noindex
X-PUBLISHED-TTL:PT1H
BEGIN:VTIMEZONE
TZID:America/Los_Angeles
BEGIN:DAYLIGHT
TZOFFSETFROM:-0800
TZOFFSETTO:-0700
TZNAME:PDT
DTSTART:20250309T100000
END:DAYLIGHT
BEGIN:STANDARD
TZOFFSETFROM:-0700
TZOFFSETTO:-0800
TZNAME:PST
DTSTART:20251102T090000
END:STANDARD
BEGIN:DAYLIGHT
TZOFFSETFROM:-0800
TZOFFSETTO:-0700
TZNAME:PDT
DTSTART:20260308T100000
END:DAYLIGHT
BEGIN:STANDARD
TZOFFSETFROM:-0700
TZOFFSETTO:-0800
TZNAME:PST
DTSTART:20261101T090000
END:STANDARD
BEGIN:DAYLIGHT
TZOFFSETFROM:-0800
TZOFFSETTO:-0700
TZNAME:PDT
DTSTART:20270314T100000
END:DAYLIGHT
BEGIN:STANDARD
TZOFFSETFROM:-0700
TZOFFSETTO:-0800
TZNAME:PST
DTSTART:20271107T090000
END:STANDARD
END:VTIMEZONE
BEGIN:VEVENT
DTSTART;VALUE=DATE:20260425
DTEND;VALUE=DATE:20260426
DTSTAMP:20260420T044306
CREATED:20260410T005200Z
LAST-MODIFIED:20260410T005200Z
UID:223109-1777075200-1777161599@seattlekr.com
SUMMARY:베네치아 침몰 masquerade 가면무도회 Masquerade ball
DESCRIPTION:시애틀 니혼칸 극장에서 열리는 성인 전용 행사. 베네치아 분위기 속에서 아크로바이터\, 심령술사\, 마술사들이 출연하여 화려한 밤을 선사합니다. 입장료 $105\, 모든 참석자는 장식용 가면 착용 필수. 인터내셔널 디스트릭트 인근 위치. \n \n🎫 Tickets 📷 Photos 🎬 Video \n📍 Google Map \n🔗 홈페이지 보기
URL:https://seattlekr.com/seattle-event/%eb%b2%a0%eb%84%a4%ec%b9%98%ec%95%84-%ec%b9%a8%eb%aa%b0-masquerade-%ea%b0%80%eb%a9%b4%eb%ac%b4%eb%8f%84%ed%9a%8c-masquerade-ball/
LOCATION:Nippon Kan Theatre\, 628 S Washington St\, Seattle\, WA 98104\, United States
END:VEVENT
END:VCALENDAR