BEGIN:VCALENDAR
VERSION:2.0
PRODID:-//시애틀KR - ECPv6.15.18//NONSGML v1.0//EN
CALSCALE:GREGORIAN
METHOD:PUBLISH
X-WR-CALNAME:시애틀KR
X-ORIGINAL-URL:https://seattlekr.com
X-WR-CALDESC:시애틀KR 이벤트
REFRESH-INTERVAL;VALUE=DURATION:PT1H
X-Robots-Tag:noindex
X-PUBLISHED-TTL:PT1H
BEGIN:VTIMEZONE
TZID:America/Los_Angeles
BEGIN:DAYLIGHT
TZOFFSETFROM:-0800
TZOFFSETTO:-0700
TZNAME:PDT
DTSTART:20250309T100000
END:DAYLIGHT
BEGIN:STANDARD
TZOFFSETFROM:-0700
TZOFFSETTO:-0800
TZNAME:PST
DTSTART:20251102T090000
END:STANDARD
BEGIN:DAYLIGHT
TZOFFSETFROM:-0800
TZOFFSETTO:-0700
TZNAME:PDT
DTSTART:20260308T100000
END:DAYLIGHT
BEGIN:STANDARD
TZOFFSETFROM:-0700
TZOFFSETTO:-0800
TZNAME:PST
DTSTART:20261101T090000
END:STANDARD
BEGIN:DAYLIGHT
TZOFFSETFROM:-0800
TZOFFSETTO:-0700
TZNAME:PDT
DTSTART:20270314T100000
END:DAYLIGHT
BEGIN:STANDARD
TZOFFSETFROM:-0700
TZOFFSETTO:-0800
TZNAME:PST
DTSTART:20271107T090000
END:STANDARD
END:VTIMEZONE
BEGIN:VEVENT
DTSTART;VALUE=DATE:20260424
DTEND;VALUE=DATE:20260427
DTSTAMP:20260420T044244
CREATED:20260409T172520Z
LAST-MODIFIED:20260409T172520Z
UID:223066-1776988800-1777247999@seattlekr.com
SUMMARY:보디빌딩 박람회 Body-building expo
DESCRIPTION:에메랄드 컵(Emerald Cup)은 벨뷰(Bellevue)의 11000 NE 6th St.에 위치한 Meydenbauer Center에서 건강 산업 공급업체와 함께하는 보디빌딩\, 피트니스\, 피겨\, 비키니 및 체격 챔피언십입니다. \n📷 Photos \n📍 Google Map \n🔗 홈페이지 보기
URL:https://seattlekr.com/seattle-event/%eb%b3%b4%eb%94%94%eb%b9%8c%eb%94%a9-%eb%b0%95%eb%9e%8c%ed%9a%8c-body-building-expo/
LOCATION:Meydenbauer Center\, 11000 NE 6th St\, Bellevue\, WA 98004\, United States
END:VEVENT
END:VCALENDAR