BEGIN:VCALENDAR
VERSION:2.0
PRODID:-//시애틀KR - ECPv6.15.18//NONSGML v1.0//EN
CALSCALE:GREGORIAN
METHOD:PUBLISH
X-WR-CALNAME:시애틀KR
X-ORIGINAL-URL:https://seattlekr.com
X-WR-CALDESC:시애틀KR 이벤트
REFRESH-INTERVAL;VALUE=DURATION:PT1H
X-Robots-Tag:noindex
X-PUBLISHED-TTL:PT1H
BEGIN:VTIMEZONE
TZID:America/Los_Angeles
BEGIN:DAYLIGHT
TZOFFSETFROM:-0800
TZOFFSETTO:-0700
TZNAME:PDT
DTSTART:20250309T100000
END:DAYLIGHT
BEGIN:STANDARD
TZOFFSETFROM:-0700
TZOFFSETTO:-0800
TZNAME:PST
DTSTART:20251102T090000
END:STANDARD
BEGIN:DAYLIGHT
TZOFFSETFROM:-0800
TZOFFSETTO:-0700
TZNAME:PDT
DTSTART:20260308T100000
END:DAYLIGHT
BEGIN:STANDARD
TZOFFSETFROM:-0700
TZOFFSETTO:-0800
TZNAME:PST
DTSTART:20261101T090000
END:STANDARD
BEGIN:DAYLIGHT
TZOFFSETFROM:-0800
TZOFFSETTO:-0700
TZNAME:PDT
DTSTART:20270314T100000
END:DAYLIGHT
BEGIN:STANDARD
TZOFFSETFROM:-0700
TZOFFSETTO:-0800
TZNAME:PST
DTSTART:20271107T090000
END:STANDARD
END:VTIMEZONE
BEGIN:VEVENT
DTSTART;VALUE=DATE:20260501
DTEND;VALUE=DATE:20260504
DTSTAMP:20260420T044334
CREATED:20260410T164348Z
LAST-MODIFIED:20260410T164348Z
UID:223204-1777593600-1777852799@seattlekr.com
SUMMARY:블랙 영화 축제 Black film festival
DESCRIPTION:랭스턴 휴즈 공연 예술 센터에서 영화 상영회\, 워크숍\, 전문가 토론 및 영화 제작자와의 대화가 열립니다. 시애틀 사우스 센트럴\, 17번 사우스 애비뉴 근처에서 진행됩니다. \n🎬 Video \n📍 Google Map \n🔗 홈페이지 보기
URL:https://seattlekr.com/seattle-event/%eb%b8%94%eb%9e%99-%ec%98%81%ed%99%94-%ec%b6%95%ec%a0%9c-black-film-festival/
LOCATION:Langston Hughes Performing Arts Institute\, 104 17th Ave S\, Seattle\, WA 98144\, United States
END:VEVENT
END:VCALENDAR