BEGIN:VCALENDAR
VERSION:2.0
PRODID:-//시애틀KR - ECPv6.15.18//NONSGML v1.0//EN
CALSCALE:GREGORIAN
METHOD:PUBLISH
X-WR-CALNAME:시애틀KR
X-ORIGINAL-URL:https://seattlekr.com
X-WR-CALDESC:시애틀KR 이벤트
REFRESH-INTERVAL;VALUE=DURATION:PT1H
X-Robots-Tag:noindex
X-PUBLISHED-TTL:PT1H
BEGIN:VTIMEZONE
TZID:America/Los_Angeles
BEGIN:DAYLIGHT
TZOFFSETFROM:-0800
TZOFFSETTO:-0700
TZNAME:PDT
DTSTART:20250309T100000
END:DAYLIGHT
BEGIN:STANDARD
TZOFFSETFROM:-0700
TZOFFSETTO:-0800
TZNAME:PST
DTSTART:20251102T090000
END:STANDARD
BEGIN:DAYLIGHT
TZOFFSETFROM:-0800
TZOFFSETTO:-0700
TZNAME:PDT
DTSTART:20260308T100000
END:DAYLIGHT
BEGIN:STANDARD
TZOFFSETFROM:-0700
TZOFFSETTO:-0800
TZNAME:PST
DTSTART:20261101T090000
END:STANDARD
BEGIN:DAYLIGHT
TZOFFSETFROM:-0800
TZOFFSETTO:-0700
TZNAME:PDT
DTSTART:20270314T100000
END:DAYLIGHT
BEGIN:STANDARD
TZOFFSETFROM:-0700
TZOFFSETTO:-0800
TZNAME:PST
DTSTART:20271107T090000
END:STANDARD
END:VTIMEZONE
BEGIN:VEVENT
DTSTART;VALUE=DATE:20260501
DTEND;VALUE=DATE:20260504
DTSTAMP:20260420T044308
CREATED:20260410T164347Z
LAST-MODIFIED:20260410T164347Z
UID:223203-1777593600-1777852799@seattlekr.com
SUMMARY:성인 예술 축제: 자유로운 창작의 장 Adult art
DESCRIPTION:시애틀 센터 전시홀 (시애틀 301 머서 스트리트)에서 검열 없는 미술 작품\, 영화\, 라이브 공연을 선보입니다. SIFF 영화 센터에서는 오후 4시부터 판 에로스 영화 페스티벌 진행. 21세 이상 대상 행사\, 일요일에는 전시홀 18세 이상 입장 가능. \n📷 Photos \n📍 Google Map \n🔗 홈페이지 보기
URL:https://seattlekr.com/seattle-event/%ec%84%b1%ec%9d%b8-%ec%98%88%ec%88%a0-%ec%b6%95%ec%a0%9c-%ec%9e%90%ec%9c%a0%eb%a1%9c%ec%9a%b4-%ec%b0%bd%ec%9e%91%ec%9d%98-%ec%9e%a5-adult-art/
LOCATION:Seattle Center Exhibition Hall\, 301 Mercer St\, Seattle\, WA 98109\, United States
END:VEVENT
END:VCALENDAR