BEGIN:VCALENDAR
VERSION:2.0
PRODID:-//시애틀KR - ECPv6.15.18//NONSGML v1.0//EN
CALSCALE:GREGORIAN
METHOD:PUBLISH
X-WR-CALNAME:시애틀KR
X-ORIGINAL-URL:https://seattlekr.com
X-WR-CALDESC:시애틀KR 이벤트
REFRESH-INTERVAL;VALUE=DURATION:PT1H
X-Robots-Tag:noindex
X-PUBLISHED-TTL:PT1H
BEGIN:VTIMEZONE
TZID:America/Los_Angeles
BEGIN:DAYLIGHT
TZOFFSETFROM:-0800
TZOFFSETTO:-0700
TZNAME:PDT
DTSTART:20250309T100000
END:DAYLIGHT
BEGIN:STANDARD
TZOFFSETFROM:-0700
TZOFFSETTO:-0800
TZNAME:PST
DTSTART:20251102T090000
END:STANDARD
BEGIN:DAYLIGHT
TZOFFSETFROM:-0800
TZOFFSETTO:-0700
TZNAME:PDT
DTSTART:20260308T100000
END:DAYLIGHT
BEGIN:STANDARD
TZOFFSETFROM:-0700
TZOFFSETTO:-0800
TZNAME:PST
DTSTART:20261101T090000
END:STANDARD
BEGIN:DAYLIGHT
TZOFFSETFROM:-0800
TZOFFSETTO:-0700
TZNAME:PDT
DTSTART:20270314T100000
END:DAYLIGHT
BEGIN:STANDARD
TZOFFSETFROM:-0700
TZOFFSETTO:-0800
TZNAME:PST
DTSTART:20271107T090000
END:STANDARD
END:VTIMEZONE
BEGIN:VEVENT
DTSTART;VALUE=DATE:20260418
DTEND;VALUE=DATE:20260426
DTSTAMP:20260420T044220
CREATED:20260409T004759Z
LAST-MODIFIED:20260409T004759Z
UID:222971-1776470400-1777161599@seattlekr.com
SUMMARY:시애틀 아름다운 건축 탐방 투어 Architectural tour
DESCRIPTION:시애틀 건축 재단 주최로 35달러로 시애틀의 아름다운 건축물들을 둘러보는 도보 투어에 참여하세요. 반려동물 동반 불가. 자세한 내용은 FAQ 참조. \n\n\nApril 18 — Downtown styles over time\nApril 25 — Mount Baker neighborhood tour\n\n\n🔗 홈페이지 보기
URL:https://seattlekr.com/seattle-event/%ec%8b%9c%ec%95%a0%ed%8b%80-%ec%95%84%eb%a6%84%eb%8b%a4%ec%9a%b4-%ea%b1%b4%ec%b6%95-%ed%83%90%eb%b0%a9-%ed%88%ac%ec%96%b4-architectural-tour/
LOCATION:Seattle area
END:VEVENT
END:VCALENDAR