BEGIN:VCALENDAR
VERSION:2.0
PRODID:-//시애틀KR - ECPv6.15.18//NONSGML v1.0//EN
CALSCALE:GREGORIAN
METHOD:PUBLISH
X-WR-CALNAME:시애틀KR
X-ORIGINAL-URL:https://seattlekr.com
X-WR-CALDESC:시애틀KR 이벤트
REFRESH-INTERVAL;VALUE=DURATION:PT1H
X-Robots-Tag:noindex
X-PUBLISHED-TTL:PT1H
BEGIN:VTIMEZONE
TZID:America/Los_Angeles
BEGIN:DAYLIGHT
TZOFFSETFROM:-0800
TZOFFSETTO:-0700
TZNAME:PDT
DTSTART:20250309T100000
END:DAYLIGHT
BEGIN:STANDARD
TZOFFSETFROM:-0700
TZOFFSETTO:-0800
TZNAME:PST
DTSTART:20251102T090000
END:STANDARD
BEGIN:DAYLIGHT
TZOFFSETFROM:-0800
TZOFFSETTO:-0700
TZNAME:PDT
DTSTART:20260308T100000
END:DAYLIGHT
BEGIN:STANDARD
TZOFFSETFROM:-0700
TZOFFSETTO:-0800
TZNAME:PST
DTSTART:20261101T090000
END:STANDARD
BEGIN:DAYLIGHT
TZOFFSETFROM:-0800
TZOFFSETTO:-0700
TZNAME:PDT
DTSTART:20270314T100000
END:DAYLIGHT
BEGIN:STANDARD
TZOFFSETFROM:-0700
TZOFFSETTO:-0800
TZNAME:PST
DTSTART:20271107T090000
END:STANDARD
END:VTIMEZONE
BEGIN:VEVENT
DTSTART;VALUE=DATE:20260503
DTEND;VALUE=DATE:20260504
DTSTAMP:20260420T044333
CREATED:20260417T095300Z
LAST-MODIFIED:20260417T095300Z
UID:224004-1777766400-1777852799@seattlekr.com
SUMMARY:시애틀 재즈 밤: 제이크 베르지빈 콰르텟 공연 Jazz
DESCRIPTION:🎫 무료 \n시애틀 퍼스트 바팰트에서 제이크 베르지빈 콰르텟의 트럼펫\, 피아노\, 기타\, 베이스\, 드럼으로 구성된 다채로운 재즈 공연을 즐겨보세요. 편리한 주차 공간도 마련되어 있습니다. \n📍 Google Map \n🔗 홈페이지 보기
URL:https://seattlekr.com/seattle-event/%ec%8b%9c%ec%95%a0%ed%8b%80-%ec%9e%ac%ec%a6%88-%eb%b0%a4-%ec%a0%9c%ec%9d%b4%ed%81%ac-%eb%b2%a0%eb%a5%b4%ec%a7%80%eb%b9%88-%ec%bd%b0%eb%a5%b4%ed%85%9f-%ea%b3%b5%ec%97%b0-jazz/
LOCATION:Seattle First Baptist\, 1111 Harvard Ave\, Seattle\, WA 98122\, United States
END:VEVENT
END:VCALENDAR