BEGIN:VCALENDAR
VERSION:2.0
PRODID:-//시애틀KR - ECPv6.15.18//NONSGML v1.0//EN
CALSCALE:GREGORIAN
METHOD:PUBLISH
X-WR-CALNAME:시애틀KR
X-ORIGINAL-URL:https://seattlekr.com
X-WR-CALDESC:시애틀KR 이벤트
REFRESH-INTERVAL;VALUE=DURATION:PT1H
X-Robots-Tag:noindex
X-PUBLISHED-TTL:PT1H
BEGIN:VTIMEZONE
TZID:America/Los_Angeles
BEGIN:DAYLIGHT
TZOFFSETFROM:-0800
TZOFFSETTO:-0700
TZNAME:PDT
DTSTART:20250309T100000
END:DAYLIGHT
BEGIN:STANDARD
TZOFFSETFROM:-0700
TZOFFSETTO:-0800
TZNAME:PST
DTSTART:20251102T090000
END:STANDARD
BEGIN:DAYLIGHT
TZOFFSETFROM:-0800
TZOFFSETTO:-0700
TZNAME:PDT
DTSTART:20260308T100000
END:DAYLIGHT
BEGIN:STANDARD
TZOFFSETFROM:-0700
TZOFFSETTO:-0800
TZNAME:PST
DTSTART:20261101T090000
END:STANDARD
BEGIN:DAYLIGHT
TZOFFSETFROM:-0800
TZOFFSETTO:-0700
TZNAME:PDT
DTSTART:20270314T100000
END:DAYLIGHT
BEGIN:STANDARD
TZOFFSETFROM:-0700
TZOFFSETTO:-0800
TZNAME:PST
DTSTART:20271107T090000
END:STANDARD
END:VTIMEZONE
BEGIN:VEVENT
DTSTART;VALUE=DATE:20260410
DTEND;VALUE=DATE:20260426
DTSTAMP:20260420T044405
CREATED:20260408T010147Z
LAST-MODIFIED:20260408T010147Z
UID:222840-1775779200-1777161599@seattlekr.com
SUMMARY:시애틀 호텔 안드로 고급 요리 체험 클래스 Gourmet cooking class
DESCRIPTION:핫 스토브 소사이어티가 시애틀 호텔 안드로에서 다채로운 애피타이저와 함께 전문 요리사의 요리 과정을 경험하세요. 풍성한 맛의 여정을 즐겨보세요. \n\n\n\nDate \nTime \nPrice \nTheme \n\nApril 10 \n5:30 PM \n$135 \nCrab feast \n\nApril 17 \n5:30 PM \n$130 \nPork chop\, soup\, cake \n\nApril 24 \n5:30 PM \n$115 \nRisotto & salad \n\nApril 25 \n11:00 AM \n$105 \nEnglish muffin brunch \n\nApril 25 \n2:30 PM \n$110 \nEnchiladas with pork\n\n\n\n\n\n\n\n\n\n\n\n\n\n\n\n\n\n\n\n\n\n\n\n\n\n\n\n\n\n\n\n\n🎬 Video \n📍 Google Map \n🔗 홈페이지 보기
URL:https://seattlekr.com/seattle-event/%ec%8b%9c%ec%95%a0%ed%8b%80-%ed%98%b8%ed%85%94-%ec%95%88%eb%93%9c%eb%a1%9c-%ea%b3%a0%ea%b8%89-%ec%9a%94%eb%a6%ac-%ec%b2%b4%ed%97%98-%ed%81%b4%eb%9e%98%ec%8a%a4-gourmet-cooking-class/
LOCATION:Hotel Andra\, 2000 4th Ave\, Seattle\, WA 98121\, United States
END:VEVENT
END:VCALENDAR