BEGIN:VCALENDAR
VERSION:2.0
PRODID:-//시애틀KR - ECPv6.15.18//NONSGML v1.0//EN
CALSCALE:GREGORIAN
METHOD:PUBLISH
X-WR-CALNAME:시애틀KR
X-ORIGINAL-URL:https://seattlekr.com
X-WR-CALDESC:시애틀KR 이벤트
REFRESH-INTERVAL;VALUE=DURATION:PT1H
X-Robots-Tag:noindex
X-PUBLISHED-TTL:PT1H
BEGIN:VTIMEZONE
TZID:America/Los_Angeles
BEGIN:DAYLIGHT
TZOFFSETFROM:-0800
TZOFFSETTO:-0700
TZNAME:PDT
DTSTART:20250309T100000
END:DAYLIGHT
BEGIN:STANDARD
TZOFFSETFROM:-0700
TZOFFSETTO:-0800
TZNAME:PST
DTSTART:20251102T090000
END:STANDARD
BEGIN:DAYLIGHT
TZOFFSETFROM:-0800
TZOFFSETTO:-0700
TZNAME:PDT
DTSTART:20260308T100000
END:DAYLIGHT
BEGIN:STANDARD
TZOFFSETFROM:-0700
TZOFFSETTO:-0800
TZNAME:PST
DTSTART:20261101T090000
END:STANDARD
BEGIN:DAYLIGHT
TZOFFSETFROM:-0800
TZOFFSETTO:-0700
TZNAME:PDT
DTSTART:20270314T100000
END:DAYLIGHT
BEGIN:STANDARD
TZOFFSETFROM:-0700
TZOFFSETTO:-0800
TZNAME:PST
DTSTART:20271107T090000
END:STANDARD
END:VTIMEZONE
BEGIN:VEVENT
DTSTART;VALUE=DATE:20260424
DTEND;VALUE=DATE:20260425
DTSTAMP:20260420T044203
CREATED:20260409T172514Z
LAST-MODIFIED:20260409T172514Z
UID:223062-1776988800-1777075199@seattlekr.com
SUMMARY:이스트사이드 와인 산책 Eastside wine walk
DESCRIPTION:39달러짜리 다운타운 이사콰 와인 & 아트 워크(Downtown Issaquah Wine & Art Walk)에는 그림처럼 아름다운 프론트 스트리트(Front Street)에 있는 상점에서 사용할 수 있는 시식 토큰 12개가 포함되어 있습니다. Capri Cellars의 VIP. 21세 이상은 이사콰 다운타운 협회(Downtown Issaquah Association\, 232 Front St. N in Issaquah)에서 일반 입장이 가능합니다. 자신의 잔을 가져오세요. 일년에 여러번 개최됩니다. \n📷 Photos \n📍 Google Map \n🔗 홈페이지 보기
URL:https://seattlekr.com/seattle-event/%ec%9d%b4%ec%8a%a4%ed%8a%b8%ec%82%ac%ec%9d%b4%eb%93%9c-%ec%99%80%ec%9d%b8-%ec%82%b0%ec%b1%85-eastside-wine-walk/
LOCATION:Downtown Issaquah Association\, 232 Front St N\, Issaquah\, WA 98027\, United States
END:VEVENT
END:VCALENDAR