BEGIN:VCALENDAR
VERSION:2.0
PRODID:-//시애틀KR - ECPv6.15.18//NONSGML v1.0//EN
CALSCALE:GREGORIAN
METHOD:PUBLISH
X-WR-CALNAME:시애틀KR
X-ORIGINAL-URL:https://seattlekr.com
X-WR-CALDESC:시애틀KR 이벤트
REFRESH-INTERVAL;VALUE=DURATION:PT1H
X-Robots-Tag:noindex
X-PUBLISHED-TTL:PT1H
BEGIN:VTIMEZONE
TZID:America/Los_Angeles
BEGIN:DAYLIGHT
TZOFFSETFROM:-0800
TZOFFSETTO:-0700
TZNAME:PDT
DTSTART:20250309T100000
END:DAYLIGHT
BEGIN:STANDARD
TZOFFSETFROM:-0700
TZOFFSETTO:-0800
TZNAME:PST
DTSTART:20251102T090000
END:STANDARD
BEGIN:DAYLIGHT
TZOFFSETFROM:-0800
TZOFFSETTO:-0700
TZNAME:PDT
DTSTART:20260308T100000
END:DAYLIGHT
BEGIN:STANDARD
TZOFFSETFROM:-0700
TZOFFSETTO:-0800
TZNAME:PST
DTSTART:20261101T090000
END:STANDARD
BEGIN:DAYLIGHT
TZOFFSETFROM:-0800
TZOFFSETTO:-0700
TZNAME:PDT
DTSTART:20270314T100000
END:DAYLIGHT
BEGIN:STANDARD
TZOFFSETFROM:-0700
TZOFFSETTO:-0800
TZNAME:PST
DTSTART:20271107T090000
END:STANDARD
END:VTIMEZONE
BEGIN:VEVENT
DTSTART;VALUE=DATE:20260430
DTEND;VALUE=DATE:20260501
DTSTAMP:20260420T044246
CREATED:20260410T101433Z
LAST-MODIFIED:20260410T101433Z
UID:223174-1777507200-1777593599@seattlekr.com
SUMMARY:이스트사이드 와인 투어: 토템레이크 숨겨진 와인 탐험 Eastside wine walk
DESCRIPTION:성인 전용 와인 체험! $51 티켓으로 커클랜드 토템레이크의 로컬 와이너리 방문. 12가지 와인 시음으로 지역 와인 문화를 만끽하세요. (주소: 12600 120th Ave. NE\, 커클랜드) \n🎫 Tickets \n📍 Google Map \n🔗 홈페이지 보기
URL:https://seattlekr.com/seattle-event/%ec%9d%b4%ec%8a%a4%ed%8a%b8%ec%82%ac%ec%9d%b4%eb%93%9c-%ec%99%80%ec%9d%b8-%ed%88%ac%ec%96%b4-%ed%86%a0%ed%85%9c%eb%a0%88%ec%9d%b4%ed%81%ac-%ec%88%a8%ea%b2%a8%ec%a7%84-%ec%99%80%ec%9d%b8-%ed%83%90/
LOCATION:Cinemark\, 12600 120th Ave NE\, Kirkland\, WA 98034\, United States
END:VEVENT
END:VCALENDAR