BEGIN:VCALENDAR
VERSION:2.0
PRODID:-//시애틀KR - ECPv6.15.18//NONSGML v1.0//EN
CALSCALE:GREGORIAN
METHOD:PUBLISH
X-WR-CALNAME:시애틀KR
X-ORIGINAL-URL:https://seattlekr.com
X-WR-CALDESC:시애틀KR 이벤트
REFRESH-INTERVAL;VALUE=DURATION:PT1H
X-Robots-Tag:noindex
X-PUBLISHED-TTL:PT1H
BEGIN:VTIMEZONE
TZID:America/Los_Angeles
BEGIN:DAYLIGHT
TZOFFSETFROM:-0800
TZOFFSETTO:-0700
TZNAME:PDT
DTSTART:20250309T100000
END:DAYLIGHT
BEGIN:STANDARD
TZOFFSETFROM:-0700
TZOFFSETTO:-0800
TZNAME:PST
DTSTART:20251102T090000
END:STANDARD
BEGIN:DAYLIGHT
TZOFFSETFROM:-0800
TZOFFSETTO:-0700
TZNAME:PDT
DTSTART:20260308T100000
END:DAYLIGHT
BEGIN:STANDARD
TZOFFSETFROM:-0700
TZOFFSETTO:-0800
TZNAME:PST
DTSTART:20261101T090000
END:STANDARD
BEGIN:DAYLIGHT
TZOFFSETFROM:-0800
TZOFFSETTO:-0700
TZNAME:PDT
DTSTART:20270314T100000
END:DAYLIGHT
BEGIN:STANDARD
TZOFFSETFROM:-0700
TZOFFSETTO:-0800
TZNAME:PST
DTSTART:20271107T090000
END:STANDARD
END:VTIMEZONE
BEGIN:VEVENT
DTSTART;VALUE=DATE:20260502
DTEND;VALUE=DATE:20260504
DTSTAMP:20260420T044405
CREATED:20260411T003349Z
LAST-MODIFIED:20260411T003349Z
UID:223246-1777680000-1777852799@seattlekr.com
SUMMARY:장애물 마라톤: 시애틀 북부 도전 Obstacle race
DESCRIPTION:스노호미시 메이든 우드 에쿼트리션 센터에서 열리는 5K 또는 10K 장애물 마라톤에 참여하세요! 20개의 장애물을 극복하며 시애틀 북부를 달려보세요. 반려동물 동반 불가. \n \n🔗 홈페이지 보기
URL:https://seattlekr.com/seattle-event/%ec%9e%a5%ec%95%a0%eb%ac%bc-%eb%a7%88%eb%9d%bc%ed%86%a4-%ec%8b%9c%ec%95%a0%ed%8b%80-%eb%b6%81%eb%b6%80-%eb%8f%84%ec%a0%84-obstacle-race/
LOCATION:Snohomish
END:VEVENT
END:VCALENDAR