BEGIN:VCALENDAR
VERSION:2.0
PRODID:-//시애틀KR - ECPv6.15.18//NONSGML v1.0//EN
CALSCALE:GREGORIAN
METHOD:PUBLISH
X-WR-CALNAME:시애틀KR
X-ORIGINAL-URL:https://seattlekr.com
X-WR-CALDESC:시애틀KR 이벤트
REFRESH-INTERVAL;VALUE=DURATION:PT1H
X-Robots-Tag:noindex
X-PUBLISHED-TTL:PT1H
BEGIN:VTIMEZONE
TZID:America/Los_Angeles
BEGIN:DAYLIGHT
TZOFFSETFROM:-0800
TZOFFSETTO:-0700
TZNAME:PDT
DTSTART:20250309T100000
END:DAYLIGHT
BEGIN:STANDARD
TZOFFSETFROM:-0700
TZOFFSETTO:-0800
TZNAME:PST
DTSTART:20251102T090000
END:STANDARD
BEGIN:DAYLIGHT
TZOFFSETFROM:-0800
TZOFFSETTO:-0700
TZNAME:PDT
DTSTART:20260308T100000
END:DAYLIGHT
BEGIN:STANDARD
TZOFFSETFROM:-0700
TZOFFSETTO:-0800
TZNAME:PST
DTSTART:20261101T090000
END:STANDARD
BEGIN:DAYLIGHT
TZOFFSETFROM:-0800
TZOFFSETTO:-0700
TZNAME:PDT
DTSTART:20270314T100000
END:DAYLIGHT
BEGIN:STANDARD
TZOFFSETFROM:-0700
TZOFFSETTO:-0800
TZNAME:PST
DTSTART:20271107T090000
END:STANDARD
END:VTIMEZONE
BEGIN:VEVENT
DTSTART;VALUE=DATE:20260426
DTEND;VALUE=DATE:20260427
DTSTAMP:20260420T044358
CREATED:20260410T101425Z
LAST-MODIFIED:20260410T101425Z
UID:223168-1777161600-1777247999@seattlekr.com
SUMMARY:크림수프 후원 이벤트: 타코마 화석수항 박물관 저녁 경매 Chowder fundraiser
DESCRIPTION:성인 전용 이벤트로 100달러 티켓으로 참여 가능합니다. 타코마 화석수항 박물관(주소: 705 Dock St.)에서 다채로운 크림수프와 샐러드를 즐기며\, 조용한 경매와 라이브 경매가 진행됩니다. 소셜 아워와 디저트 경연 대회도 포함됩니다. (만 21세 이상) \n🎫 Tickets 📷 Photos \n📍 Google Map \n🔗 홈페이지 보기
URL:https://seattlekr.com/seattle-event/%ed%81%ac%eb%a6%bc%ec%88%98%ed%94%84-%ed%9b%84%ec%9b%90-%ec%9d%b4%eb%b2%a4%ed%8a%b8-%ed%83%80%ec%bd%94%eb%a7%88-%ed%99%94%ec%84%9d%ec%88%98%ed%95%ad-%eb%b0%95%eb%ac%bc%ea%b4%80-%ec%a0%80%eb%85%81/
LOCATION:Foss Waterway Seaport Museum\, 705 Dock St\, Tacoma\, WA 98402\, United States
END:VEVENT
END:VCALENDAR