BEGIN:VCALENDAR
VERSION:2.0
PRODID:-//시애틀KR - ECPv6.15.18//NONSGML v1.0//EN
CALSCALE:GREGORIAN
METHOD:PUBLISH
X-WR-CALNAME:시애틀KR
X-ORIGINAL-URL:https://seattlekr.com
X-WR-CALDESC:시애틀KR 이벤트
REFRESH-INTERVAL;VALUE=DURATION:PT1H
X-Robots-Tag:noindex
X-PUBLISHED-TTL:PT1H
BEGIN:VTIMEZONE
TZID:America/Los_Angeles
BEGIN:DAYLIGHT
TZOFFSETFROM:-0800
TZOFFSETTO:-0700
TZNAME:PDT
DTSTART:20250309T100000
END:DAYLIGHT
BEGIN:STANDARD
TZOFFSETFROM:-0700
TZOFFSETTO:-0800
TZNAME:PST
DTSTART:20251102T090000
END:STANDARD
BEGIN:DAYLIGHT
TZOFFSETFROM:-0800
TZOFFSETTO:-0700
TZNAME:PDT
DTSTART:20260308T100000
END:DAYLIGHT
BEGIN:STANDARD
TZOFFSETFROM:-0700
TZOFFSETTO:-0800
TZNAME:PST
DTSTART:20261101T090000
END:STANDARD
BEGIN:DAYLIGHT
TZOFFSETFROM:-0800
TZOFFSETTO:-0700
TZNAME:PDT
DTSTART:20270314T100000
END:DAYLIGHT
BEGIN:STANDARD
TZOFFSETFROM:-0700
TZOFFSETTO:-0800
TZNAME:PST
DTSTART:20271107T090000
END:STANDARD
END:VTIMEZONE
BEGIN:VEVENT
DTSTART;VALUE=DATE:20260502
DTEND;VALUE=DATE:20260503
DTSTAMP:20260420T044219
CREATED:20260411T003347Z
LAST-MODIFIED:20260411T003347Z
UID:223245-1777680000-1777766399@seattlekr.com
SUMMARY:타코마 아트 뮤지엄 특별 아트 파티 Art party
DESCRIPTION:$295 티켓으로 라이브 재즈 음악\, 칵테일\, 3코스 저녁 식사를 즐겨보세요. 스포티 스타일 드레스 코드\, 오후 8시 30분 바 클로즈 후 애프터 파티 시작. \n📷 Photos \n📍 Google Map \n🔗 홈페이지 보기
URL:https://seattlekr.com/seattle-event/%ed%83%80%ec%bd%94%eb%a7%88-%ec%95%84%ed%8a%b8-%eb%ae%a4%ec%a7%80%ec%97%84-%ed%8a%b9%eb%b3%84-%ec%95%84%ed%8a%b8-%ed%8c%8c%ed%8b%b0-art-party/
LOCATION:Tacoma Art Museum\, 1701 Pacific Ave\, Tacoma\, WA 98402\, United States
END:VEVENT
END:VCALENDAR