BEGIN:VCALENDAR
VERSION:2.0
PRODID:-//시애틀KR - ECPv6.15.18//NONSGML v1.0//EN
CALSCALE:GREGORIAN
METHOD:PUBLISH
X-WR-CALNAME:시애틀KR
X-ORIGINAL-URL:https://seattlekr.com
X-WR-CALDESC:시애틀KR 이벤트
REFRESH-INTERVAL;VALUE=DURATION:PT1H
X-Robots-Tag:noindex
X-PUBLISHED-TTL:PT1H
BEGIN:VTIMEZONE
TZID:America/Los_Angeles
BEGIN:DAYLIGHT
TZOFFSETFROM:-0800
TZOFFSETTO:-0700
TZNAME:PDT
DTSTART:20250309T100000
END:DAYLIGHT
BEGIN:STANDARD
TZOFFSETFROM:-0700
TZOFFSETTO:-0800
TZNAME:PST
DTSTART:20251102T090000
END:STANDARD
BEGIN:DAYLIGHT
TZOFFSETFROM:-0800
TZOFFSETTO:-0700
TZNAME:PDT
DTSTART:20260308T100000
END:DAYLIGHT
BEGIN:STANDARD
TZOFFSETFROM:-0700
TZOFFSETTO:-0800
TZNAME:PST
DTSTART:20261101T090000
END:STANDARD
BEGIN:DAYLIGHT
TZOFFSETFROM:-0800
TZOFFSETTO:-0700
TZNAME:PDT
DTSTART:20270314T100000
END:DAYLIGHT
BEGIN:STANDARD
TZOFFSETFROM:-0700
TZOFFSETTO:-0800
TZNAME:PST
DTSTART:20271107T090000
END:STANDARD
END:VTIMEZONE
BEGIN:VEVENT
DTSTART;VALUE=DATE:20260426
DTEND;VALUE=DATE:20260427
DTSTAMP:20260420T043556
CREATED:20260410T101422Z
LAST-MODIFIED:20260410T101422Z
UID:223166-1777161600-1777247999@seattlekr.com
SUMMARY:트럭을 만져보세요 Touch a Truck
DESCRIPTION:아이들은 Montlake Blvd에서 University of Washington Golf Range 바로 남쪽에 있는 Parking Lot E1에 있는 Touch a Truck에서 중장비와 응급 차량을 만지고 탐색하고\, 운전자와 대화하고\, 게임을 즐길 수 있습니다. 시애틀의 NE. E18에 유료 주차장이 있습니다. 2세 미만 어린이는 무료입니다. 푸드트럭 이용 가능. 애완동물은 없습니다. \n📷 Photos \n📍 Google Map \n🔗 홈페이지 보기
URL:https://seattlekr.com/seattle-event/%ed%8a%b8%eb%9f%ad%ec%9d%84-%eb%a7%8c%ec%a0%b8%eb%b3%b4%ec%84%b8%ec%9a%94-touch-a-truck/
LOCATION:Parking Lot E1\, Montlake Blvd NE\, Seattle\, WA 98105\, United States
END:VEVENT
END:VCALENDAR