BEGIN:VCALENDAR
VERSION:2.0
PRODID:-//시애틀KR - ECPv6.15.18//NONSGML v1.0//EN
CALSCALE:GREGORIAN
METHOD:PUBLISH
X-WR-CALNAME:시애틀KR
X-ORIGINAL-URL:https://seattlekr.com
X-WR-CALDESC:시애틀KR 이벤트
REFRESH-INTERVAL;VALUE=DURATION:PT1H
X-Robots-Tag:noindex
X-PUBLISHED-TTL:PT1H
BEGIN:VTIMEZONE
TZID:America/Los_Angeles
BEGIN:DAYLIGHT
TZOFFSETFROM:-0800
TZOFFSETTO:-0700
TZNAME:PDT
DTSTART:20250309T100000
END:DAYLIGHT
BEGIN:STANDARD
TZOFFSETFROM:-0700
TZOFFSETTO:-0800
TZNAME:PST
DTSTART:20251102T090000
END:STANDARD
BEGIN:DAYLIGHT
TZOFFSETFROM:-0800
TZOFFSETTO:-0700
TZNAME:PDT
DTSTART:20260308T100000
END:DAYLIGHT
BEGIN:STANDARD
TZOFFSETFROM:-0700
TZOFFSETTO:-0800
TZNAME:PST
DTSTART:20261101T090000
END:STANDARD
BEGIN:DAYLIGHT
TZOFFSETFROM:-0800
TZOFFSETTO:-0700
TZNAME:PDT
DTSTART:20270314T100000
END:DAYLIGHT
BEGIN:STANDARD
TZOFFSETFROM:-0700
TZOFFSETTO:-0800
TZNAME:PST
DTSTART:20271107T090000
END:STANDARD
END:VTIMEZONE
BEGIN:VEVENT
DTSTART;VALUE=DATE:20260501
DTEND;VALUE=DATE:20260601
DTSTAMP:20260420T043557
CREATED:20260418T111710Z
LAST-MODIFIED:20260418T111710Z
UID:224113-1777593600-1780271999@seattlekr.com
SUMMARY:폴란드 축제 Polish festival
DESCRIPTION:🎫 무료 \n피에로기 페스트(Pierogi Fest)에는 피에로기 만두(고기\, 감자와 치즈\, 사우어크라우트와 버섯\, 스위트 치즈\, 블루베리 중 선택)\, 폴란드 핫도그\, 폴란드 맥주\, 청량음료\, 패스트리\, 의류\, 폴란드 합창단(오후 1시 30분)이 시애틀의 폴란드 문화 센터(1714 18th Ave.)에서 열립니다. \n📷 Photos \n📍 Google Map \n🔗 홈페이지 보기
URL:https://seattlekr.com/seattle-event/%ed%8f%b4%eb%9e%80%eb%93%9c-%ec%b6%95%ec%a0%9c-polish-festival/
LOCATION:Polish Cultural Center\, 1714 18th Ave\, Seattle\, WA 98122\, United States
END:VEVENT
END:VCALENDAR