BEGIN:VCALENDAR
VERSION:2.0
PRODID:-//시애틀KR - ECPv6.15.18//NONSGML v1.0//EN
CALSCALE:GREGORIAN
METHOD:PUBLISH
X-WR-CALNAME:시애틀KR
X-ORIGINAL-URL:https://seattlekr.com
X-WR-CALDESC:시애틀KR 이벤트
REFRESH-INTERVAL;VALUE=DURATION:PT1H
X-Robots-Tag:noindex
X-PUBLISHED-TTL:PT1H
BEGIN:VTIMEZONE
TZID:America/Los_Angeles
BEGIN:DAYLIGHT
TZOFFSETFROM:-0800
TZOFFSETTO:-0700
TZNAME:PDT
DTSTART:20250309T100000
END:DAYLIGHT
BEGIN:STANDARD
TZOFFSETFROM:-0700
TZOFFSETTO:-0800
TZNAME:PST
DTSTART:20251102T090000
END:STANDARD
BEGIN:DAYLIGHT
TZOFFSETFROM:-0800
TZOFFSETTO:-0700
TZNAME:PDT
DTSTART:20260308T100000
END:DAYLIGHT
BEGIN:STANDARD
TZOFFSETFROM:-0700
TZOFFSETTO:-0800
TZNAME:PST
DTSTART:20261101T090000
END:STANDARD
BEGIN:DAYLIGHT
TZOFFSETFROM:-0800
TZOFFSETTO:-0700
TZNAME:PDT
DTSTART:20270314T100000
END:DAYLIGHT
BEGIN:STANDARD
TZOFFSETFROM:-0700
TZOFFSETTO:-0800
TZNAME:PST
DTSTART:20271107T090000
END:STANDARD
END:VTIMEZONE
BEGIN:VEVENT
DTSTART;VALUE=DATE:20260430
DTEND;VALUE=DATE:20260504
DTSTAMP:20260420T043638
CREATED:20260410T164340Z
LAST-MODIFIED:20260410T164340Z
UID:223199-1777507200-1777852799@seattlekr.com
SUMMARY:흑인영화제 Black film festival
DESCRIPTION:시애틀 블랙 필름 페스티벌(Seattle Black Film Festival)은 Langston Hughes Performing Arts Institute\, 104 17th Ave. S\, Seattle에서 “영화 상영\, 실습 워크숍\, 패널 토론 및 영화 제작자와의 심층적인 대화를 제공합니다.” \n🎬 Video \n📍 Google Map \n🔗 홈페이지 보기
URL:https://seattlekr.com/seattle-event/%ed%9d%91%ec%9d%b8%ec%98%81%ed%99%94%ec%a0%9c-black-film-festival/
LOCATION:Langston Hughes Performing Arts Institute\, 104 17th Ave S\, Seattle\, WA 98144\, United States
END:VEVENT
END:VCALENDAR